BEGIN:VCALENDAR
VERSION:2.0
PRODID:-//87.118.90.70//NONSGML kigkonsult.se iCalcreator 2.20//
CALSCALE:GREGORIAN
METHOD:PUBLISH
X-WR-TIMEZONE:Europe/Berlin
BEGIN:VEVENT
UID:event353@ DBM e.V
DTSTAMP:20260424T133751Z
CATEGORIES:Termine DBM e.V.\, Fortbildung
DESCRIPTION:Kinder mit Fetalem-Alkohol-Syndrom in der Psychomotorik\nKatego
 rie: Termine DBM e.V.\, Fortbildung\nICS-Link: https://www.motopaedie-verb
 and.de/index.php?option=com_jem&view=event&id=353:kinder-mit-fetalem-alkoh
 ol-syndrom-in-der-psychomotorik\n
DTSTART;TZID=Europe/Berlin:20230825T083000
DTEND;TZID=Europe/Berlin:20230825T153000
LOCATION:Praxis für Mototherapie & Heilpädagogik M. Rösner\,Wittener Str.34
 \,58285 Gevelsberg
SUMMARY:Kinder mit Fetalem-Alkohol-Syndrom in der Psychomotorik
URL:https://www.motopaedie-verband.de/index.php?option=com_jem&view=event&i
 d=353:kinder-mit-fetalem-alkohol-syndrom-in-der-psychomotorik
END:VEVENT
END:VCALENDAR
