BEGIN:VCALENDAR
VERSION:2.0
PRODID:-//87.118.90.70//NONSGML kigkonsult.se iCalcreator 2.20//
CALSCALE:GREGORIAN
METHOD:PUBLISH
X-WR-TIMEZONE:Europe/Berlin
BEGIN:VEVENT
UID:event391@ DBM e.V
DTSTAMP:20260423T130356Z
CATEGORIES:Termine DBM e.V.\, Fortbildung\, Fortbildung
DESCRIPTION:Zusatzqualifikation Motogeragogik - Einführungsmodul\nKategorie
 : Termine DBM e.V.\, Fortbildung\, Fortbildung\nICS-Link: https://www.moto
 paedie-verband.de/index.php?option=com_jem&view=event&id=391:zusatzqualifi
 kation-motogeragogik-einführungsmodul\n
DTSTART;TZID=Europe/Berlin:20240126T140000
DTEND;TZID=Europe/Berlin:20240316T140000
LOCATION:Berufskolleg Michaelshoven - Fachschule Motopädie\,Pfarrer-Te-Reh-
 Straße 5\,50999 Köln
SUMMARY:Zusatzqualifikation Motogeragogik - Einführungsmodul
END:VEVENT
END:VCALENDAR
