BEGIN:VCALENDAR
VERSION:2.0
PRODID:-//87.118.90.70//NONSGML kigkonsult.se iCalcreator 2.20//
CALSCALE:GREGORIAN
METHOD:PUBLISH
X-WR-TIMEZONE:Europe/Berlin
BEGIN:VEVENT
UID:event234@ DBM e.V
DTSTAMP:20260420T161315Z
CATEGORIES:Termine DBM e.V.\, Fortbildung
DESCRIPTION:ZQ Motogeragogik DBM - Einführungsmodul > verschoben !\nKategor
 ie: Termine DBM e.V.\, Fortbildung\nICS-Link: https://www.motopaedie-verba
 nd.de/index.php?option=com_jem&view=event&id=234:zq-motogeragogik-dbm-einf
 ührungsmodul\n
DTSTART;VALUE=DATE:20200327
DTEND;VALUE=DATE:20200328
LOCATION:Berufskolleg Michaelshoven - Fachschule Motopädie\,Pfarrer-Te-Reh-
 Straße 5\,50999 Köln
SUMMARY:ZQ Motogeragogik DBM - Einführungsmodul > verschoben !
END:VEVENT
END:VCALENDAR
